BEGIN:VCALENDAR
VERSION:2.0
PRODID:-//https://www.ischiaeventi.com///NONSGML kigkonsult.se iCalcreator 2.10.15//
METHOD:PUBLISH
BEGIN:VEVENT
UID:20260424T123323UTC-7784WN2vwl@https://www.ischiaeventi.com/
DTSTAMP:20260424T123323Z
DESCRIPTION:From December 6\, 2025\, to January 6\, 2026\, the Municipality
  of Forio renews and expands the tradition of the “Natale Foriano\,” an ev
 ent that over the past two years has captivated both residents and visitor
 s. It has also drawn the attention of national media for the quality of it
 s decorations\, the variety of its events\, and the warm atmosphere that b
 rings together magic\, culture\, and community spirit. https://www.ischiae
 venti.com/en/events/cultura/debates-and-cultural-meetings/event/220648-chr
 istmas-in-forio-2025-the-christmas-lights-are-coming-on
DTSTART;VALUE=DATE:20251206
LOCATION:Comune di Forio (Piazza Municipio\, 1\, 80075 Forio NA\, Italia)
SUMMARY:Christmas in Forio 2025: The Christmas Lights Are Coming On
URL:https://www.ischiaeventi.com/en/events/cultura/debates-and-cultural-mee
 tings/event/220648-christmas-in-forio-2025-the-christmas-lights-are-coming
 -on
END:VEVENT
END:VCALENDAR
