BEGIN:VCALENDAR
VERSION:2.0
PRODID:-//https://www.ischiaeventi.com///NONSGML kigkonsult.se iCalcreator 2.10.15//
METHOD:PUBLISH
BEGIN:VEVENT
UID:20260424T111258UTC-5141r7THuE@https://www.ischiaeventi.com/
DTSTAMP:20260424T111258Z
DESCRIPTION:Il viaggio della speranza di Azzurra: in musica\, il nostro gra
 zie https://www.ischiaeventi.com/en/events/cultura/debates-and-cultural-me
 etings/event/103204-estate-forio-2025-il-viaggio-della-speranza-di-azzurra
DTSTART:20250727T190000Z
DTEND:20250727T215900Z
LOCATION:Piazzale del Soccorso (Via del Soccorso\, 6\, 80075 Forio NA\, Ita
 lia)
SUMMARY:Estate Forio 2025: il viaggio della speranza di Azzurra
URL:https://www.ischiaeventi.com/en/events/cultura/debates-and-cultural-mee
 tings/event/103204-estate-forio-2025-il-viaggio-della-speranza-di-azzurra
END:VEVENT
END:VCALENDAR
