BEGIN:VCALENDAR
VERSION:2.0
PRODID:-//https://www.ischiaeventi.com///NONSGML kigkonsult.se iCalcreator 2.10.15//
METHOD:PUBLISH
BEGIN:VEVENT
UID:20260424T093557UTC-2523zctoA5@https://www.ischiaeventi.com/
DTSTAMP:20260424T093557Z
DESCRIPTION:Serata grandi classici della canzone italiana con band musicali
 \, banchetti artigianali e stand enogastronomici https://www.ischiaeventi.
 com/en/events/cultura/debates-and-cultural-meetings/event/103201-estate-fo
 rio-2025-serata-grandi-classici-della-canzone-italiana
DTSTART:20250718T180000Z
DTEND:20250718T215900Z
LOCATION:Panza (Piazza San Leonardo - 80075 Panza Forio)
SUMMARY:Estate Forio 2025: serata grandi classici della canzone italiana 
URL:https://www.ischiaeventi.com/en/events/cultura/debates-and-cultural-mee
 tings/event/103201-estate-forio-2025-serata-grandi-classici-della-canzone-
 italiana
END:VEVENT
END:VCALENDAR
