BEGIN:VCALENDAR
VERSION:2.0
PRODID:-//https://www.ischiaeventi.com///NONSGML kigkonsult.se iCalcreator 2.10.15//
METHOD:PUBLISH
BEGIN:VEVENT
UID:20260424T111318UTC-5920EWV2l5@https://www.ischiaeventi.com/
DTSTAMP:20260424T111318Z
DESCRIPTION:MERCOLEDI 16 || ORE 21:00 - CHIOSTRO PIAZZA MUNICIPIO ISCHIA CL
 ASSICA FESTIVAL: MUSICAL HOOK CON LE AVVENTURE DI PETER PANGIOVEDI 17 || O
 RE 21.00 - CENTRO STORICO DI FORIO https://www.ischiaeventi.com/en/events/
 cultura/debates-and-cultural-meetings/event/103199-estate-forio-2025-class
 ica-festival-musical-hook
DTSTART:20250716T190000Z
DTEND:20250716T215900Z
LOCATION:Chiostro S. Francesco (Rione Pescatori\, 2\, 80075 Forio NA\, Ital
 ia)
SUMMARY:ESTATE FORIO 2025: CLASSICA FESTIVAL: MUSICAL HOOK
URL:https://www.ischiaeventi.com/en/events/cultura/debates-and-cultural-mee
 tings/event/103199-estate-forio-2025-classica-festival-musical-hook
END:VEVENT
END:VCALENDAR
