BEGIN:VCALENDAR
VERSION:2.0
PRODID:-//https://www.ischiaeventi.com///NONSGML kigkonsult.se iCalcreator 2.10.15//
METHOD:PUBLISH
BEGIN:VEVENT
UID:20260424T075147UTC-5704Ej4leu@https://www.ischiaeventi.com/
DTSTAMP:20260424T075147Z
DESCRIPTION:Mostra Veranica Acunto\nIngresso Libero\n&nbsp\; https://www.is
 chiaeventi.com/en/events/cultura/architecture/event/68452-mostra-veronica-
 acunto
DTSTART:20250531T173000Z
DTEND:20250531T190000Z
LOCATION:Villa Arbusto museum (Corso Angelo Rizzoli\, 194\, 80076 Lacco Ame
 no NA\, Italia)
SUMMARY:Mostra Veronica Acunto
URL:https://www.ischiaeventi.com/en/events/cultura/architecture/event/68452
 -mostra-veronica-acunto
END:VEVENT
END:VCALENDAR
