BEGIN:VCALENDAR
VERSION:2.0
PRODID:-//https://www.ischiaeventi.com///NONSGML kigkonsult.se iCalcreator 2.10.15//
METHOD:PUBLISH
BEGIN:VEVENT
UID:20260424T121301UTC-9278z5jWbV@https://www.ischiaeventi.com/
DTSTAMP:20260424T121301Z
DESCRIPTION:19.30 RAPPRESENTAZIONE VICOLI SARACENI di scene storiche nelle 
 antiche botteghe&nbsp\;\n&nbsp\; https://www.ischiaeventi.com/en/events/cu
 ltura/architecture/event/34118-forio-merryland-rappresentazione-vicoli-sar
 aceni
DTSTART:20241226T183000Z
DTEND:20241226T210000Z
LOCATION:Comune di Forio (Piazza Municipio\, 1\, 80075 Forio NA\, Italia)
SUMMARY:Forio MerryLand: RAPPRESENTAZIONE VICOLI SARACENI
URL:https://www.ischiaeventi.com/en/events/cultura/architecture/event/34118
 -forio-merryland-rappresentazione-vicoli-saraceni
END:VEVENT
END:VCALENDAR
