BEGIN:VCALENDAR
VERSION:2.0
PRODID:-//https://www.ischiaeventi.com///NONSGML kigkonsult.se iCalcreator 2.10.15//
METHOD:PUBLISH
BEGIN:VEVENT
UID:20260424T133510UTC-7740Jwew1X@https://www.ischiaeventi.com/
DTSTAMP:20260424T133510Z
DESCRIPTION:15.30 EVENTO PER BAMBINI divertimento per i più piccini tra le 
 strade del borgo di Panza https://www.ischiaeventi.com/en/events/cultura/a
 rchitecture/event/34091-forio-merryland-evento-per-bambini
DTSTART:20241214T143000Z
DTEND:20241214T153000Z
LOCATION:Comune di Forio (Piazza Municipio\, 1\, 80075 Forio NA\, Italia)
SUMMARY:Forio MerryLand: EVENTO PER BAMBINI
URL:https://www.ischiaeventi.com/en/events/cultura/architecture/event/34091
 -forio-merryland-evento-per-bambini
END:VEVENT
END:VCALENDAR
