BEGIN:VCALENDAR
VERSION:2.0
PRODID:-//https://www.ischiaeventi.com///NONSGML kigkonsult.se iCalcreator 2.10.15//
METHOD:PUBLISH
BEGIN:VEVENT
UID:20260424T075410UTC-70050CxT9B@https://www.ischiaeventi.com/
DTSTAMP:20260424T075410Z
DESCRIPTION:Esposizione Iacono Mattera Waschimps https://www.ischiaeventi.c
 om/en/events/cultura/architecture/event/28786-esposizione-iacono-mattera-w
 aschimps
DTSTART:20240419T160000Z
DTEND:20240419T180000Z
LOCATION:Villa Arbusto museum (Corso Angelo Rizzoli\, 194\, 80076 Lacco Ame
 no NA\, Italia)
SUMMARY:Esposizione Iacono Mattera Waschimps
URL:https://www.ischiaeventi.com/en/events/cultura/architecture/event/28786
 -esposizione-iacono-mattera-waschimps
END:VEVENT
END:VCALENDAR
