BEGIN:VCALENDAR
VERSION:2.0
PRODID:-//https://www.ischiaeventi.com///NONSGML kigkonsult.se iCalcreator 2.10.15//
METHOD:PUBLISH
BEGIN:VEVENT
UID:20260424T135542UTC-4140A2f7tj@https://www.ischiaeventi.com/
DTSTAMP:20260424T135542Z
DESCRIPTION:Venerdì 29 Marzo - 𝗧𝗼𝗻𝘆 𝗧𝗮𝗺𝗺𝗮𝗿𝗼 il cantautore più irriverente d
 ’Italia. https://www.ischiaeventi.com/en/events/cultura/architecture/event
 /27941-il-grande-spettacolo-al-cinema-excelsior-di-ischia-tony-tammaro
DTSTART:20240329T190000Z
DTEND:20240329T213000Z
LOCATION:Cinema Excelsior (Via Francesco Sogliuzzo\, 18\, 80077 Ischia NA\,
  Italia)
SUMMARY:Il grande spettacolo al cinema excelsior di Ischia: Tony Tammaro
URL:https://www.ischiaeventi.com/en/events/cultura/architecture/event/27941
 -il-grande-spettacolo-al-cinema-excelsior-di-ischia-tony-tammaro
END:VEVENT
END:VCALENDAR
