BEGIN:VCALENDAR
VERSION:2.0
PRODID:-//https://www.ischiaeventi.com///NONSGML kigkonsult.se iCalcreator 2.10.15//
METHOD:PUBLISH
BEGIN:VEVENT
UID:20260424T224324UTC-2576hrTm9P@https://www.ischiaeventi.com/
DTSTAMP:20260424T224324Z
DESCRIPTION:by Edgar Kupfer-Koberwitz“Ischia\, the Forgotten Island”\nPrese
 ntation organized by FIDAPA BPW Italy\nSection of Ischia – February 24\, 5
 :30 PMat the Hall of the Biblioteca Antoniana in Ischia https://www.ischia
 eventi.com/en/events/cultura/architecture/event/249571-presentation-ischia
 -lisola-dimenticata
DTSTART:20260224T163000Z
DTEND:20260224T190000Z
LOCATION:Biblioteca Antoniana (Rampe S.Antonio\, 5\, 80077 - Ischia)
SUMMARY:Presentation 'Ischia l'isola dimenticata'
URL:https://www.ischiaeventi.com/en/events/cultura/architecture/event/24957
 1-presentation-ischia-lisola-dimenticata
END:VEVENT
END:VCALENDAR
