BEGIN:VCALENDAR
VERSION:2.0
PRODID:-//https://www.ischiaeventi.com///NONSGML kigkonsult.se iCalcreator 2.10.15//
METHOD:PUBLISH
BEGIN:VEVENT
UID:20260424T224420UTC-9670KtHX7z@https://www.ischiaeventi.com/
DTSTAMP:20260424T224420Z
DESCRIPTION:Inauguration of the giocoLIBERO play areacurated by Marco Corte
 se (open until January 6)\n https://www.ischiaeventi.com/en/events/cultura
 /architecture/event/249181-christmas-at-the-antoniana-book-presentation-by
 -anna-pilato---il-regalo
DTSTART:20251209T163000Z
DTEND:20251209T180000Z
LOCATION:Biblioteca Antoniana (Rampe S.Antonio\, 5\, 80077 - Ischia)
SUMMARY:Christmas at the Antoniana: Book Presentation by Anna Pilato – Il r
 egalo
URL:https://www.ischiaeventi.com/en/events/cultura/architecture/event/24918
 1-christmas-at-the-antoniana-book-presentation-by-anna-pilato---il-regalo
END:VEVENT
END:VCALENDAR
