BEGIN:VCALENDAR
VERSION:2.0
PRODID:-//https://www.ischiaeventi.com///NONSGML kigkonsult.se iCalcreator 2.10.15//
METHOD:PUBLISH
BEGIN:VEVENT
UID:20260424T111421UTC-4158uvWMg5@https://www.ischiaeventi.com/
DTSTAMP:20260424T111421Z
DESCRIPTION:6:00 PM – With Stefano in Our Hearts: a Goal for Life! An event
  in memory of Stefano Cavallo\, celebrating his passions for football and 
 food\, held at the “S. Calise” stadium. https://www.ischiaeventi.com/en/ev
 ents/cultura/architecture/event/249084-christmas-in-forio-2025-with-stefan
 o-in-our-hearts-a-goal-for-life
DTSTART:20251209T170000Z
DTEND:20251209T195900Z
LOCATION:Comune di Forio (Piazza Municipio\, 1\, 80075 Forio NA\, Italia)
SUMMARY:Christmas in Forio 2025: With Stefano in Our Hearts: a Goal for Lif
 e! 
URL:https://www.ischiaeventi.com/en/events/cultura/architecture/event/24908
 4-christmas-in-forio-2025-with-stefano-in-our-hearts-a-goal-for-life
END:VEVENT
END:VCALENDAR
