BEGIN:VCALENDAR
VERSION:2.0
PRODID:-//https://www.ischiaeventi.com///NONSGML kigkonsult.se iCalcreator 2.10.15//
METHOD:PUBLISH
BEGIN:VEVENT
UID:20260422T165944UTC-7138evVDSx@https://www.ischiaeventi.com/
DTSTAMP:20260422T165944Z
DESCRIPTION:Open Archery Session | Tastings of Telese Specialties | Graphic
  Open Day! https://www.ischiaeventi.com/en/calendar/event/249439-aperitiro
 -at-telese
DTSTART:20260122T150000Z
DTEND:20260122T170000Z
LOCATION:Istituto Professionale di stato 'Vincenzo Telese' (Via Fondo Bosso
 \, 1\, 80077 Ischia NA\, Italia)
SUMMARY:Aperitiro at Telese
URL:https://www.ischiaeventi.com/en/calendar/event/249439-aperitiro-at-tele
 se
END:VEVENT
END:VCALENDAR
