BEGIN:VCALENDAR
VERSION:2.0
PRODID:-//https://www.ischiaeventi.com///NONSGML kigkonsult.se iCalcreator 2.10.15//
METHOD:PUBLISH
BEGIN:VEVENT
UID:20260424T225533UTC-0579v2UiS8@https://www.ischiaeventi.com/
DTSTAMP:20260424T225533Z
DESCRIPTION:Book Presentationby Gaia Greco – Rose di sale(Circolo Georges S
 adoul and FIDAPA – Ischia Section)\n https://www.ischiaeventi.com/en/calen
 dar/event/249185-christmas-at-the-antoniana-book-presentation-by-gaia-grec
 o---rose-di-sale
DTSTART:20251222T170000Z
DTEND:20251222T180000Z
LOCATION:Biblioteca Antoniana (Rampe S.Antonio\, 5\, 80077 - Ischia)
SUMMARY:Christmas at the Antoniana: Book Presentation by Gaia Greco – Rose 
 di sale
URL:https://www.ischiaeventi.com/en/calendar/event/249185-christmas-at-the-
 antoniana-book-presentation-by-gaia-greco---rose-di-sale
END:VEVENT
END:VCALENDAR
