BEGIN:VCALENDAR
VERSION:2.0
PRODID:-//https://www.ischiaeventi.com///NONSGML kigkonsult.se iCalcreator 2.10.15//
METHOD:PUBLISH
BEGIN:VEVENT
UID:20260424T025036UTC-1315db8V7w@https://www.ischiaeventi.com/
DTSTAMP:20260424T025036Z
DESCRIPTION:Il Comune di Forio informa la cittadinanza che sta per partire 
 un’importante iniziativa dedicata alle donne del territorio.Corso gratuito
  di Judo e Autodifesa FemminileL’ASD Olympic Judo Forio organizza un corso
  gratuito di judo/autodifesa dedicato alle donne\, con l’obiettivo di prom
 uovere sicurezza personale\, consapevolezza e benessere fisico.-Inizio: Sa
 bato 28 febbraioOrario: dalle ore 19:00 alle ore 20:00Luogo: Palazzetto de
 llo Sport di ForioDurata: fino a fine maggioPosti disponibili: massimo 20 
 partecipanti-Le iscrizioni potranno essere effettuate direttamente presso 
 il Palazzetto dello Sport.Per maggiori informazioni è possibile consultare
  la pagina Facebook ASD Olympic Judo Forio.Un’importante occasione di cres
 cita personale e sportiva.Vi aspettiamo! https://www.ischiaeventi.com/cale
 ndario/evento/249606-corso-judo-autodifesa-per-donne
DTSTART:20260502T170000Z
DTEND:20260502T180000Z
LOCATION:PALAZZETTO DELLO SPORT FORIO - ISOLA D'ISCHIA - LOCALITA' CASALE (
 Via Casale\, 29\, 80075 Forio NA\, Italy)
SUMMARY:CORSO JUDO/AUTODIFESA PER DONNE 
URL:https://www.ischiaeventi.com/calendario/evento/249606-corso-judo-autodi
 fesa-per-donne
END:VEVENT
BEGIN:VEVENT
UID:20260424T025036UTC-13170AgBb7@https://www.ischiaeventi.com/
DTSTAMP:20260424T025036Z
DESCRIPTION:Duo L. Gorokhov - M.R. Guenter - Violoncello e pianoforteMusich
 e di Gorokhov\, Walton\, Shostakovich\n&nbsp\;\nNorme di prenotazione e co
 mportamento\n€ 20\,00 - Intero€ 15\,00 - Ragazzi da 12 a 18 anni\; Residen
 ti dei Comuni dell'Isola d'IschiaIngresso Gratuito - Disabili con attestat
 o di invalidità oltre 51% (ingressi in base alla disponibilità dei posti)A
 TTENZIONE:\nIl concerto si svolge nella sala al chiuso e dura circa 60 min
 .Prenotazione nominale obbligatoria presso la biglietteria dei Giardini La
  Mortella\,nei giorni di Martedì\, Giovedì\, Sabato e Domenica dalle 10 al
 le 18 o al telefono 081-986220.Si raccomanda di presentarsi in tempo utile
  (almeno 40 minuti prima dell'inizio del concerto).E’ obbligatorio il risp
 etto delle norme Anti Covid19 in vigore (D.L. 24/03/2022):E' consigliato i
 ndossare la mascherina FFP2 per tutta la durata del concerto.Il registro d
 elle presenze verrà mantenuto per 14 giorni come richiesto dalla legge.La 
 Direzione si riserva la facoltà di modificare il programma in caso di nece
 ssità tecniche o artistiche. https://www.ischiaeventi.com/calendario/event
 o/249755-incontri-musicali-stagione-primavera-estate-duo-l-gorokhov-m-r-gu
 enter
DTSTART:20260502T150000Z
DTEND:20260502T163000Z
LOCATION:Giardini La Mortella (Via Francesco Calise\, 39 - 80075 Forio NA\,
  Italia)
SUMMARY:Incontri musicali\, stagione primavera - estate: Duo L. Gorokhov - 
 M.R. Guenter
URL:https://www.ischiaeventi.com/calendario/evento/249755-incontri-musicali
 -stagione-primavera-estate-duo-l-gorokhov-m-r-guenter
END:VEVENT
BEGIN:VEVENT
UID:20260424T025036UTC-1319o4Vgc4@https://www.ischiaeventi.com/
DTSTAMP:20260424T025036Z
DESCRIPTION:Duo L. Gorokhov - M.R. Guenter - Violoncello e pianoforteMusich
 e di Gorokhov\, Walton\, Shostakovich\n&nbsp\;\nNorme di prenotazione e co
 mportamento\n€ 20\,00 - Intero€ 15\,00 - Ragazzi da 12 a 18 anni\; Residen
 ti dei Comuni dell'Isola d'IschiaIngresso Gratuito - Disabili con attestat
 o di invalidità oltre 51% (ingressi in base alla disponibilità dei posti)A
 TTENZIONE:\nIl concerto si svolge nella sala al chiuso e dura circa 60 min
 .Prenotazione nominale obbligatoria presso la biglietteria dei Giardini La
  Mortella\,nei giorni di Martedì\, Giovedì\, Sabato e Domenica dalle 10 al
 le 18 o al telefono 081-986220.Si raccomanda di presentarsi in tempo utile
  (almeno 40 minuti prima dell'inizio del concerto).E’ obbligatorio il risp
 etto delle norme Anti Covid19 in vigore (D.L. 24/03/2022):E' consigliato i
 ndossare la mascherina FFP2 per tutta la durata del concerto.Il registro d
 elle presenze verrà mantenuto per 14 giorni come richiesto dalla legge.La 
 Direzione si riserva la facoltà di modificare il programma in caso di nece
 ssità tecniche o artistiche. https://www.ischiaeventi.com/calendario/event
 o/249756-incontri-musicali-stagione-primavera-estate-duo-l-gorokhov-m-r-gu
 enter
DTSTART:20260503T150000Z
DTEND:20260503T163000Z
LOCATION:Giardini La Mortella (Via Francesco Calise\, 39 - 80075 Forio NA\,
  Italia)
SUMMARY:Incontri musicali\, stagione primavera - estate: Duo L. Gorokhov - 
 M.R. Guenter
URL:https://www.ischiaeventi.com/calendario/evento/249756-incontri-musicali
 -stagione-primavera-estate-duo-l-gorokhov-m-r-guenter
END:VEVENT
BEGIN:VEVENT
UID:20260424T025036UTC-1321uZuWsJ@https://www.ischiaeventi.com/
DTSTAMP:20260424T025036Z
DESCRIPTION:PURA FANTASIA: VEDERE OLTRE LE FORMEDI IACONO DOMENICODAL 24 AL
  27 APRILE 202610:30-13:00 15:30-20:0024 APRILE ORE 19:00 VERNISSAGEPRESSO
  LA TORRE DEL MOLINO(EX CARCERE BORBONICO)SPIAGGIA DELLA MANDRA - ISCHIA h
 ttps://www.ischiaeventi.com/calendario/evento/249863-vernissage-pura-fanta
 sia-vedere-oltre-le-forme
DTSTART:20260427T083000Z
DTEND:20260427T180000Z
LOCATION:Torre del Molino (Spiaggia dei Pescatori\, 80077 Ischia NA\, Itali
 a)
SUMMARY:Vernissage: PURA FANTASIA VEDERE OLTRE LE FORME
URL:https://www.ischiaeventi.com/calendario/evento/249863-vernissage-pura-f
 antasia-vedere-oltre-le-forme
END:VEVENT
BEGIN:VEVENT
UID:20260424T025036UTC-1322UhIUJk@https://www.ischiaeventi.com/
DTSTAMP:20260424T025036Z
DESCRIPTION:La storia vera di una madre e della battaglia di suo figlioVero
 nica MatareseLA FORZA DI UNA MAMMA&nbsp\;27 Aprile 2026Ore 17:00Sala Consi
 liare del Comune di ForioVi aspettiamo! https://www.ischiaeventi.com/calen
 dario/evento/249896-presentazione-del-libro-la-forza-di-una-mamma
DTSTART:20260427T150000Z
DTEND:20260427T170000Z
LOCATION:Sala conferenze Porto di Forio (Via Cristoforo Colombo\, 1311\, 80
 075 Forio NA\, Italia)
SUMMARY:Presentazione del Libro LA FORZA DI UNA MAMMA
URL:https://www.ischiaeventi.com/calendario/evento/249896-presentazione-del
 -libro-la-forza-di-una-mamma
END:VEVENT
BEGIN:VEVENT
UID:20260424T025036UTC-1323lf5wU0@https://www.ischiaeventi.com/
DTSTAMP:20260424T025036Z
DESCRIPTION:Ore 20.30 Sul Sagrato della Chiesa Parrocchiale: Gaetano Maschi
 o nella Canzolata 'IN...pacchettata': tombola cantata con premi\, sorprese
  e divertimento. Con la partecipazione di Elisabetta Maschio. Al piano il 
 M. Silvano Trani. Stand gastronomico a cura dell'equipe parrocchiale. http
 s://www.ischiaeventi.com/calendario/evento/249909-festeggiamenti-in-onore-
 di-san-francesco-di-paola-canzolata-in-pacchettata
DTSTART:20260502T183000Z
DTEND:20260502T203000Z
LOCATION:Santuario di San Francesco di Paola  (Via Tommaso Cigliano\, 144\,
  80075 Forio NA\, Italy)
SUMMARY:Festeggiamenti in onore di San Francesco di Paola: Canzolata 'IN...
 pacchettata'
URL:https://www.ischiaeventi.com/calendario/evento/249909-festeggiamenti-in
 -onore-di-san-francesco-di-paola-canzolata-in-pacchettata
END:VEVENT
BEGIN:VEVENT
UID:20260424T025036UTC-1324NeNVVb@https://www.ischiaeventi.com/
DTSTAMP:20260424T025036Z
DESCRIPTION:Ore 19.00 Processione della venerata immagine di San Francesco 
 di Paola con la partecipazione dell'associazione musicale 'Papa Giovanni X
 XIII' della Città di Forio per Via Tommaso Cigliano\, Via Aiemita e Via Fo
 rtino\, Via Spine Sante e ritorno. Al Fortino e alla Chiaia spettacolo pir
 otecnico in onore del gran Santo. Cerimonia di suffragio e omaggio ai cadu
 ti in mare con offerta della corona d'alloro al monumento A.N.M.I.In chies
 a bacio della reliquia. https://www.ischiaeventi.com/calendario/evento/249
 910-festeggiamenti-in-onore-di-san-francesco-di-paola-processione
DTSTART:20260503T170000Z
DTEND:20260503T183000Z
LOCATION:Santuario di San Francesco di Paola  (Via Tommaso Cigliano\, 144\,
  80075 Forio NA\, Italy)
SUMMARY:Festeggiamenti in onore di San Francesco di Paola: Processione 
URL:https://www.ischiaeventi.com/calendario/evento/249910-festeggiamenti-in
 -onore-di-san-francesco-di-paola-processione
END:VEVENT
END:VCALENDAR
