BEGIN:VCALENDAR
VERSION:2.0
PRODID:-//https://www.ischiaeventi.com///NONSGML kigkonsult.se iCalcreator 2.10.15//
METHOD:PUBLISH
BEGIN:VEVENT
UID:20260424T024930UTC-1528g3Tu98@https://www.ischiaeventi.com/
DTSTAMP:20260424T024930Z
DESCRIPTION:Il Comune di Forio informa la cittadinanza che sta per partire 
 un’importante iniziativa dedicata alle donne del territorio.Corso gratuito
  di Judo e Autodifesa FemminileL’ASD Olympic Judo Forio organizza un corso
  gratuito di judo/autodifesa dedicato alle donne\, con l’obiettivo di prom
 uovere sicurezza personale\, consapevolezza e benessere fisico.-Inizio: Sa
 bato 28 febbraioOrario: dalle ore 19:00 alle ore 20:00Luogo: Palazzetto de
 llo Sport di ForioDurata: fino a fine maggioPosti disponibili: massimo 20 
 partecipanti-Le iscrizioni potranno essere effettuate direttamente presso 
 il Palazzetto dello Sport.Per maggiori informazioni è possibile consultare
  la pagina Facebook ASD Olympic Judo Forio.Un’importante occasione di cres
 cita personale e sportiva.Vi aspettiamo! https://www.ischiaeventi.com/cale
 ndario/evento/249605-corso-judo-autodifesa-per-donne
DTSTART:20260425T170000Z
DTEND:20260425T180000Z
LOCATION:PALAZZETTO DELLO SPORT FORIO - ISOLA D'ISCHIA - LOCALITA' CASALE (
 Via Casale\, 29\, 80075 Forio NA\, Italy)
SUMMARY:CORSO JUDO/AUTODIFESA PER DONNE 
URL:https://www.ischiaeventi.com/calendario/evento/249605-corso-judo-autodi
 fesa-per-donne
END:VEVENT
BEGIN:VEVENT
UID:20260424T024930UTC-1531vTt118@https://www.ischiaeventi.com/
DTSTAMP:20260424T024930Z
DESCRIPTION:Duo L. Gorokhov - M.R. Guenter - Violoncello e pianoforteMusich
 e di Gorokhov\, Walton\, Shostakovich\n&nbsp\;\nNorme di prenotazione e co
 mportamento\n€ 20\,00 - Intero€ 15\,00 - Ragazzi da 12 a 18 anni\; Residen
 ti dei Comuni dell'Isola d'IschiaIngresso Gratuito - Disabili con attestat
 o di invalidità oltre 51% (ingressi in base alla disponibilità dei posti)A
 TTENZIONE:\nIl concerto si svolge nella sala al chiuso e dura circa 60 min
 .Prenotazione nominale obbligatoria presso la biglietteria dei Giardini La
  Mortella\,nei giorni di Martedì\, Giovedì\, Sabato e Domenica dalle 10 al
 le 18 o al telefono 081-986220.Si raccomanda di presentarsi in tempo utile
  (almeno 40 minuti prima dell'inizio del concerto).E’ obbligatorio il risp
 etto delle norme Anti Covid19 in vigore (D.L. 24/03/2022):E' consigliato i
 ndossare la mascherina FFP2 per tutta la durata del concerto.Il registro d
 elle presenze verrà mantenuto per 14 giorni come richiesto dalla legge.La 
 Direzione si riserva la facoltà di modificare il programma in caso di nece
 ssità tecniche o artistiche. https://www.ischiaeventi.com/calendario/event
 o/249753-incontri-musicali-stagione-primavera-estate-duo-l-gorokhov-m-r-gu
 enter
DTSTART:20260425T150000Z
DTEND:20260425T163000Z
LOCATION:Giardini La Mortella (Via Francesco Calise\, 39 - 80075 Forio NA\,
  Italia)
SUMMARY:Incontri musicali\, stagione primavera - estate: Duo L. Gorokhov - 
 M.R. Guenter
URL:https://www.ischiaeventi.com/calendario/evento/249753-incontri-musicali
 -stagione-primavera-estate-duo-l-gorokhov-m-r-guenter
END:VEVENT
BEGIN:VEVENT
UID:20260424T024930UTC-15339mLccG@https://www.ischiaeventi.com/
DTSTAMP:20260424T024930Z
DESCRIPTION:Duo L. Gorokhov - M.R. Guenter - Violoncello e pianoforteMusich
 e di Gorokhov\, Walton\, Shostakovich\n&nbsp\;\nNorme di prenotazione e co
 mportamento\n€ 20\,00 - Intero€ 15\,00 - Ragazzi da 12 a 18 anni\; Residen
 ti dei Comuni dell'Isola d'IschiaIngresso Gratuito - Disabili con attestat
 o di invalidità oltre 51% (ingressi in base alla disponibilità dei posti)A
 TTENZIONE:\nIl concerto si svolge nella sala al chiuso e dura circa 60 min
 .Prenotazione nominale obbligatoria presso la biglietteria dei Giardini La
  Mortella\,nei giorni di Martedì\, Giovedì\, Sabato e Domenica dalle 10 al
 le 18 o al telefono 081-986220.Si raccomanda di presentarsi in tempo utile
  (almeno 40 minuti prima dell'inizio del concerto).E’ obbligatorio il risp
 etto delle norme Anti Covid19 in vigore (D.L. 24/03/2022):E' consigliato i
 ndossare la mascherina FFP2 per tutta la durata del concerto.Il registro d
 elle presenze verrà mantenuto per 14 giorni come richiesto dalla legge.La 
 Direzione si riserva la facoltà di modificare il programma in caso di nece
 ssità tecniche o artistiche. https://www.ischiaeventi.com/calendario/event
 o/249754-incontri-musicali-stagione-primavera-estate-duo-l-gorokhov-m-r-gu
 enter
DTSTART:20260426T150000Z
DTEND:20260426T163000Z
LOCATION:Giardini La Mortella (Via Francesco Calise\, 39 - 80075 Forio NA\,
  Italia)
SUMMARY:Incontri musicali\, stagione primavera - estate: Duo L. Gorokhov - 
 M.R. Guenter
URL:https://www.ischiaeventi.com/calendario/evento/249754-incontri-musicali
 -stagione-primavera-estate-duo-l-gorokhov-m-r-guenter
END:VEVENT
BEGIN:VEVENT
UID:20260424T024930UTC-1535DRU8Rl@https://www.ischiaeventi.com/
DTSTAMP:20260424T024930Z
DESCRIPTION:PURA FANTASIA: VEDERE OLTRE LE FORMEDI IACONO DOMENICODAL 24 AL
  27 APRILE 202610:30-13:00 15:30-20:0024 APRILE ORE 19:00 VERNISSAGEPRESSO
  LA TORRE DEL MOLINO(EX CARCERE BORBONICO)SPIAGGIA DELLA MANDRA - ISCHIA h
 ttps://www.ischiaeventi.com/calendario/evento/249860-vernissage-pura-fanta
 sia-vedere-oltre-le-forme
DTSTART:20260424T083000Z
DTEND:20260424T180000Z
LOCATION:Torre del Molino (Spiaggia dei Pescatori\, 80077 Ischia NA\, Itali
 a)
SUMMARY:Vernissage: PURA FANTASIA VEDERE OLTRE LE FORME
URL:https://www.ischiaeventi.com/calendario/evento/249860-vernissage-pura-f
 antasia-vedere-oltre-le-forme
END:VEVENT
BEGIN:VEVENT
UID:20260424T024930UTC-1536vt6TuA@https://www.ischiaeventi.com/
DTSTAMP:20260424T024930Z
DESCRIPTION:PURA FANTASIA: VEDERE OLTRE LE FORMEDI IACONO DOMENICODAL 24 AL
  27 APRILE 202610:30-13:00 15:30-20:0024 APRILE ORE 19:00 VERNISSAGEPRESSO
  LA TORRE DEL MOLINO(EX CARCERE BORBONICO)SPIAGGIA DELLA MANDRA - ISCHIA h
 ttps://www.ischiaeventi.com/calendario/evento/249861-vernissage-pura-fanta
 sia-vedere-oltre-le-forme
DTSTART:20260425T083000Z
DTEND:20260425T180000Z
LOCATION:Torre del Molino (Spiaggia dei Pescatori\, 80077 Ischia NA\, Itali
 a)
SUMMARY:Vernissage: PURA FANTASIA VEDERE OLTRE LE FORME
URL:https://www.ischiaeventi.com/calendario/evento/249861-vernissage-pura-f
 antasia-vedere-oltre-le-forme
END:VEVENT
BEGIN:VEVENT
UID:20260424T024930UTC-1537gvClIb@https://www.ischiaeventi.com/
DTSTAMP:20260424T024930Z
DESCRIPTION:PURA FANTASIA: VEDERE OLTRE LE FORMEDI IACONO DOMENICODAL 24 AL
  27 APRILE 202610:30-13:00 15:30-20:0024 APRILE ORE 19:00 VERNISSAGEPRESSO
  LA TORRE DEL MOLINO(EX CARCERE BORBONICO)SPIAGGIA DELLA MANDRA - ISCHIA h
 ttps://www.ischiaeventi.com/calendario/evento/249862-vernissage-pura-fanta
 sia-vedere-oltre-le-forme
DTSTART:20260426T083000Z
DTEND:20260426T180000Z
LOCATION:Torre del Molino (Spiaggia dei Pescatori\, 80077 Ischia NA\, Itali
 a)
SUMMARY:Vernissage: PURA FANTASIA VEDERE OLTRE LE FORME
URL:https://www.ischiaeventi.com/calendario/evento/249862-vernissage-pura-f
 antasia-vedere-oltre-le-forme
END:VEVENT
BEGIN:VEVENT
UID:20260424T024930UTC-1538uVTEdd@https://www.ischiaeventi.com/
DTSTAMP:20260424T024930Z
DESCRIPTION:Con il patrocinio del comune di Forio presentaForio in Fiore'St
 orie di ginestre\, malve e cannaffere'XXIII EDIZIONESABATO 25 APRILE 2026 
 ORE 18:00nei pressi della fontana a piazza Matteotti - ForioSfilata della 
 banda musicale della città di Forio Allestimenti di composizioni florealiS
 alotto nel verde a cura delle prof. Anna Capodanno e Rosa CaliseEsibizione
  del corpo di ballo della scuola 'Magia della danza' di Mary Sportiellocon
  la straordinaria partecipazione di Miss Ischia Elisabet Viktoria Ruzhyla 
 Accompagnamento musicale di Denis Trani e Ivan Matarese https://www.ischia
 eventi.com/calendario/evento/249897-forio-in-fiore-storie-di-ginestre-malv
 e-e-cannaffere
DTSTART:20260425T160000Z
DTEND:20260425T180000Z
LOCATION:Piazza Giacomo Matteotti (80075 Forio NA\, Italia)
SUMMARY:Forio in Fiore 'Storie di ginestre\, malve e cannaffere'
URL:https://www.ischiaeventi.com/calendario/evento/249897-forio-in-fiore-st
 orie-di-ginestre-malve-e-cannaffere
END:VEVENT
BEGIN:VEVENT
UID:20260424T024930UTC-15403s82So@https://www.ischiaeventi.com/
DTSTAMP:20260424T024930Z
DESCRIPTION:\nORARI SPETTACOLI: 19:00 - 21:30 Sala 1Titolo originale: Micha
 elUscita: USAGenere: Biografico\, musicale\, drammaticoRegia di:&nbsp\;Ant
 oine FuquaDurata: 127 minutiRatings: kids +13Cast:&nbsp\;Jaafar Jackson\, 
 Miles Teller\, Colman Domingo\, Nia Long\, Juliano Valdi\, Joe Gillette\, 
 Kat Graham\, Laura Harrier\, Larenz Tate\, Derek Luke\, Jessica Sula\, Ken
 drick Sampson\, Joseph David-Jones\nTRAMAMichael\, film diretto da Antoine
  Fuqua\, porta sullo schermo la storia\, la carriera e l’eredità di Michae
 l Jackson (Jaafar Jackson)\, una delle figure più iconiche e influenti del
 la storia della musica mondiale. Il film ripercorre tutta la sua vita\, da
 lle prime esibizioni da bambino nei Jackson 5\, passando per la dura disci
 plina e gli abusi subiti dal padre Joe Jackson (Colman Domingo)\, fino all
 ’ascesa fulminante che lo ha consacrato come Re del Pop. La narrazione esp
 lora la nascita del suo talento precoce e la sua trasformazione in un arti
 sta visionario\, animato da un’ambizione creativa inarrestabile e da una c
 ostante ricerca della perfezione. Dalle rivoluzionarie performance soliste
  degli anni Settanta ai record raggiunti con Thriller\, dall’acquisto dell
 a tenuta di Neverland alle sue iniziative di beneficenza\, il film mostra 
 Jackson sia come fenomeno globale sia come uomo\, gettando luce sulle comp
 lessità della sua vita privata. Attraverso incontri fondamentali con figur
 e chiave come Berry Gordy (Larenz Tate)\, Diana Ross (Kat Graham)\, Quincy
  Jones (Kendrick Sampson) e l’avvocato John Branca (Miles Teller)\, scopri
 amo il dietro le quinte della sua carriera e dei legami fondamentali. Il r
 acconto tocca anche i momenti più intimi\, tra la nascita dei figli e le s
 ue ultime settimane di vita\, culminate nella tragica e inaspettata scompa
 rsa del 25 giugno 2009. Un viaggio che permette al pubblico di vedere l’ar
 tista come mai prima d’ora\, celebrandone il talento straordinario e il se
 gno indelebile lasciato nella cultura pop mondiale.\n\n https://www.ischia
 eventi.com/calendario/evento/249899-michael-2-spettacoli-sala-1
DTSTART:20260422T170000Z
DTEND:20260422T210000Z
LOCATION:Cinema Excelsior (Via Francesco Sogliuzzo\, 18\, 80077 Ischia NA\,
  Italia)
SUMMARY:Michael (2 spettacoli) Sala 1 
URL:https://www.ischiaeventi.com/calendario/evento/249899-michael-2-spettac
 oli-sala-1
END:VEVENT
BEGIN:VEVENT
UID:20260424T024930UTC-1543uSsxw2@https://www.ischiaeventi.com/
DTSTAMP:20260424T024930Z
DESCRIPTION:\nORARI SPETTACOLI: 19:00 - 21:30 Sala 1Titolo originale: Micha
 elUscita: USAGenere: Biografico\, musicale\, drammaticoRegia di:&nbsp\;Ant
 oine FuquaDurata: 127 minutiRatings: kids +13Cast:&nbsp\;Jaafar Jackson\, 
 Miles Teller\, Colman Domingo\, Nia Long\, Juliano Valdi\, Joe Gillette\, 
 Kat Graham\, Laura Harrier\, Larenz Tate\, Derek Luke\, Jessica Sula\, Ken
 drick Sampson\, Joseph David-Jones\nTRAMAMichael\, film diretto da Antoine
  Fuqua\, porta sullo schermo la storia\, la carriera e l’eredità di Michae
 l Jackson (Jaafar Jackson)\, una delle figure più iconiche e influenti del
 la storia della musica mondiale. Il film ripercorre tutta la sua vita\, da
 lle prime esibizioni da bambino nei Jackson 5\, passando per la dura disci
 plina e gli abusi subiti dal padre Joe Jackson (Colman Domingo)\, fino all
 ’ascesa fulminante che lo ha consacrato come Re del Pop. La narrazione esp
 lora la nascita del suo talento precoce e la sua trasformazione in un arti
 sta visionario\, animato da un’ambizione creativa inarrestabile e da una c
 ostante ricerca della perfezione. Dalle rivoluzionarie performance soliste
  degli anni Settanta ai record raggiunti con Thriller\, dall’acquisto dell
 a tenuta di Neverland alle sue iniziative di beneficenza\, il film mostra 
 Jackson sia come fenomeno globale sia come uomo\, gettando luce sulle comp
 lessità della sua vita privata. Attraverso incontri fondamentali con figur
 e chiave come Berry Gordy (Larenz Tate)\, Diana Ross (Kat Graham)\, Quincy
  Jones (Kendrick Sampson) e l’avvocato John Branca (Miles Teller)\, scopri
 amo il dietro le quinte della sua carriera e dei legami fondamentali. Il r
 acconto tocca anche i momenti più intimi\, tra la nascita dei figli e le s
 ue ultime settimane di vita\, culminate nella tragica e inaspettata scompa
 rsa del 25 giugno 2009. Un viaggio che permette al pubblico di vedere l’ar
 tista come mai prima d’ora\, celebrandone il talento straordinario e il se
 gno indelebile lasciato nella cultura pop mondiale.\n\n https://www.ischia
 eventi.com/calendario/evento/249901-michael-2-spettacoli-sala-1
DTSTART:20260424T170000Z
DTEND:20260424T210000Z
LOCATION:Cinema Excelsior (Via Francesco Sogliuzzo\, 18\, 80077 Ischia NA\,
  Italia)
SUMMARY:Michael (2 spettacoli) Sala 1 
URL:https://www.ischiaeventi.com/calendario/evento/249901-michael-2-spettac
 oli-sala-1
END:VEVENT
BEGIN:VEVENT
UID:20260424T024930UTC-1545txfkmi@https://www.ischiaeventi.com/
DTSTAMP:20260424T024930Z
DESCRIPTION:\nORARI SPETTACOLI: 19:00 - 21:30 Sala 1Titolo originale: Micha
 elUscita: USAGenere: Biografico\, musicale\, drammaticoRegia di:&nbsp\;Ant
 oine FuquaDurata: 127 minutiRatings: kids +13Cast:&nbsp\;Jaafar Jackson\, 
 Miles Teller\, Colman Domingo\, Nia Long\, Juliano Valdi\, Joe Gillette\, 
 Kat Graham\, Laura Harrier\, Larenz Tate\, Derek Luke\, Jessica Sula\, Ken
 drick Sampson\, Joseph David-Jones\nTRAMAMichael\, film diretto da Antoine
  Fuqua\, porta sullo schermo la storia\, la carriera e l’eredità di Michae
 l Jackson (Jaafar Jackson)\, una delle figure più iconiche e influenti del
 la storia della musica mondiale. Il film ripercorre tutta la sua vita\, da
 lle prime esibizioni da bambino nei Jackson 5\, passando per la dura disci
 plina e gli abusi subiti dal padre Joe Jackson (Colman Domingo)\, fino all
 ’ascesa fulminante che lo ha consacrato come Re del Pop. La narrazione esp
 lora la nascita del suo talento precoce e la sua trasformazione in un arti
 sta visionario\, animato da un’ambizione creativa inarrestabile e da una c
 ostante ricerca della perfezione. Dalle rivoluzionarie performance soliste
  degli anni Settanta ai record raggiunti con Thriller\, dall’acquisto dell
 a tenuta di Neverland alle sue iniziative di beneficenza\, il film mostra 
 Jackson sia come fenomeno globale sia come uomo\, gettando luce sulle comp
 lessità della sua vita privata. Attraverso incontri fondamentali con figur
 e chiave come Berry Gordy (Larenz Tate)\, Diana Ross (Kat Graham)\, Quincy
  Jones (Kendrick Sampson) e l’avvocato John Branca (Miles Teller)\, scopri
 amo il dietro le quinte della sua carriera e dei legami fondamentali. Il r
 acconto tocca anche i momenti più intimi\, tra la nascita dei figli e le s
 ue ultime settimane di vita\, culminate nella tragica e inaspettata scompa
 rsa del 25 giugno 2009. Un viaggio che permette al pubblico di vedere l’ar
 tista come mai prima d’ora\, celebrandone il talento straordinario e il se
 gno indelebile lasciato nella cultura pop mondiale.\n\n https://www.ischia
 eventi.com/calendario/evento/249902-michael-2-spettacoli-sala-1
DTSTART:20260425T170000Z
DTEND:20260425T210000Z
LOCATION:Cinema Excelsior (Via Francesco Sogliuzzo\, 18\, 80077 Ischia NA\,
  Italia)
SUMMARY:Michael (2 spettacoli) Sala 1 
URL:https://www.ischiaeventi.com/calendario/evento/249902-michael-2-spettac
 oli-sala-1
END:VEVENT
BEGIN:VEVENT
UID:20260424T024930UTC-15488wALTV@https://www.ischiaeventi.com/
DTSTAMP:20260424T024930Z
DESCRIPTION:\nORARI SPETTACOLI: 19:00 - 21:30 Sala 1Titolo originale: Micha
 elUscita: USAGenere: Biografico\, musicale\, drammaticoRegia di:&nbsp\;Ant
 oine FuquaDurata: 127 minutiRatings: kids +13Cast:&nbsp\;Jaafar Jackson\, 
 Miles Teller\, Colman Domingo\, Nia Long\, Juliano Valdi\, Joe Gillette\, 
 Kat Graham\, Laura Harrier\, Larenz Tate\, Derek Luke\, Jessica Sula\, Ken
 drick Sampson\, Joseph David-Jones\nTRAMAMichael\, film diretto da Antoine
  Fuqua\, porta sullo schermo la storia\, la carriera e l’eredità di Michae
 l Jackson (Jaafar Jackson)\, una delle figure più iconiche e influenti del
 la storia della musica mondiale. Il film ripercorre tutta la sua vita\, da
 lle prime esibizioni da bambino nei Jackson 5\, passando per la dura disci
 plina e gli abusi subiti dal padre Joe Jackson (Colman Domingo)\, fino all
 ’ascesa fulminante che lo ha consacrato come Re del Pop. La narrazione esp
 lora la nascita del suo talento precoce e la sua trasformazione in un arti
 sta visionario\, animato da un’ambizione creativa inarrestabile e da una c
 ostante ricerca della perfezione. Dalle rivoluzionarie performance soliste
  degli anni Settanta ai record raggiunti con Thriller\, dall’acquisto dell
 a tenuta di Neverland alle sue iniziative di beneficenza\, il film mostra 
 Jackson sia come fenomeno globale sia come uomo\, gettando luce sulle comp
 lessità della sua vita privata. Attraverso incontri fondamentali con figur
 e chiave come Berry Gordy (Larenz Tate)\, Diana Ross (Kat Graham)\, Quincy
  Jones (Kendrick Sampson) e l’avvocato John Branca (Miles Teller)\, scopri
 amo il dietro le quinte della sua carriera e dei legami fondamentali. Il r
 acconto tocca anche i momenti più intimi\, tra la nascita dei figli e le s
 ue ultime settimane di vita\, culminate nella tragica e inaspettata scompa
 rsa del 25 giugno 2009. Un viaggio che permette al pubblico di vedere l’ar
 tista come mai prima d’ora\, celebrandone il talento straordinario e il se
 gno indelebile lasciato nella cultura pop mondiale.\n\n https://www.ischia
 eventi.com/calendario/evento/249903-michael-2-spettacoli-sala-1
DTSTART:20260426T170000Z
DTEND:20260426T210000Z
LOCATION:Cinema Excelsior (Via Francesco Sogliuzzo\, 18\, 80077 Ischia NA\,
  Italia)
SUMMARY:Michael (2 spettacoli) Sala 1 
URL:https://www.ischiaeventi.com/calendario/evento/249903-michael-2-spettac
 oli-sala-1
END:VEVENT
BEGIN:VEVENT
UID:20260424T024930UTC-1551vChoFG@https://www.ischiaeventi.com/
DTSTAMP:20260424T024930Z
DESCRIPTION:Tempo libero\, sport\, animazione e attività per bambini\, insi
 eme a mercatini di artigianato locale e stand di prodotti tipici\, per viv
 ere momenti di festa tra colori\, sapori e divertimento.26 Aprile – Forio1
 0 Maggio – PanzaUn’occasione per stare insieme\, valorizzare le realtà loc
 ali e celebrare l’arrivo della primavera con iniziative per tutte le età.-
 Vi aspettiamo per condividere due giornate di festa\, tra mare\, natura e 
 tradizioni! https://www.ischiaeventi.com/calendario/evento/249905-benvenut
 a-primavera
DTSTART;VALUE=DATE:20260426
LOCATION:Comune di Forio (Piazza Municipio\, 1\, 80075 Forio NA\, Italia)
SUMMARY:Benvenuta primavera
URL:https://www.ischiaeventi.com/calendario/evento/249905-benvenuta-primave
 ra
END:VEVENT
BEGIN:VEVENT
UID:20260424T024930UTC-1552ABCCHj@https://www.ischiaeventi.com/
DTSTAMP:20260424T024930Z
DESCRIPTION:Live concert Valentina Canale\, balli di gruppo a cura di Giann
 i Canale https://www.ischiaeventi.com/calendario/evento/249908-live-concer
 t-valentina-canale
DTSTART:20260425T190000Z
DTEND:20260425T203000Z
LOCATION:Comune di Barano (Via Corrado Buono\, 6\, 80070 Barano D'ischia NA
 \, Italia)
SUMMARY:Live concert Valentina Canale
URL:https://www.ischiaeventi.com/calendario/evento/249908-live-concert-vale
 ntina-canale
END:VEVENT
END:VCALENDAR
