BEGIN:VCALENDAR
VERSION:2.0
PRODID:-//https://www.ischiaeventi.com///NONSGML kigkonsult.se iCalcreator 2.10.15//
METHOD:PUBLISH
BEGIN:VEVENT
UID:20260424T120051UTC-8899vFXB9k@https://www.ischiaeventi.com/
DTSTAMP:20260424T120051Z
DESCRIPTION:Duo L. Gorokhov - M.R. Guenter - Violoncello e pianoforteMusich
 e di Gorokhov\, Walton\, Shostakovich\n&nbsp\;\nNorme di prenotazione e co
 mportamento\n€ 20\,00 - Intero€ 15\,00 - Ragazzi da 12 a 18 anni\; Residen
 ti dei Comuni dell'Isola d'IschiaIngresso Gratuito - Disabili con attestat
 o di invalidità oltre 51% (ingressi in base alla disponibilità dei posti)A
 TTENZIONE:\nIl concerto si svolge nella sala al chiuso e dura circa 60 min
 .Prenotazione nominale obbligatoria presso la biglietteria dei Giardini La
  Mortella\,nei giorni di Martedì\, Giovedì\, Sabato e Domenica dalle 10 al
 le 18 o al telefono 081-986220.Si raccomanda di presentarsi in tempo utile
  (almeno 40 minuti prima dell'inizio del concerto).E’ obbligatorio il risp
 etto delle norme Anti Covid19 in vigore (D.L. 24/03/2022):E' consigliato i
 ndossare la mascherina FFP2 per tutta la durata del concerto.Il registro d
 elle presenze verrà mantenuto per 14 giorni come richiesto dalla legge.La 
 Direzione si riserva la facoltà di modificare il programma in caso di nece
 ssità tecniche o artistiche. https://www.ischiaeventi.com/calendario/event
 o/249758-incontri-musicali-stagione-primavera-estate-duo-l-gorokhov-m-r-gu
 enter
DTSTART:20260510T150000Z
DTEND:20260510T163000Z
LOCATION:Giardini La Mortella (Via Francesco Calise\, 39 - 80075 Forio NA\,
  Italia)
SUMMARY:Incontri musicali\, stagione primavera - estate: Duo L. Gorokhov - 
 M.R. Guenter
URL:https://www.ischiaeventi.com/calendario/evento/249758-incontri-musicali
 -stagione-primavera-estate-duo-l-gorokhov-m-r-guenter
END:VEVENT
BEGIN:VEVENT
UID:20260424T120051UTC-8902bta2Z1@https://www.ischiaeventi.com/
DTSTAMP:20260424T120051Z
DESCRIPTION:Tempo libero\, sport\, animazione e attività per bambini\, insi
 eme a mercatini di artigianato locale e stand di prodotti tipici\, per viv
 ere momenti di festa tra colori\, sapori e divertimento.26 Aprile – Forio1
 0 Maggio – PanzaUn’occasione per stare insieme\, valorizzare le realtà loc
 ali e celebrare l’arrivo della primavera con iniziative per tutte le età.-
 Vi aspettiamo per condividere due giornate di festa\, tra mare\, natura e 
 tradizioni! https://www.ischiaeventi.com/calendario/evento/249906-benvenut
 a-primavera
DTSTART;VALUE=DATE:20260510
LOCATION:Comune di Forio (Piazza Municipio\, 1\, 80075 Forio NA\, Italia)
SUMMARY:Benvenuta primavera
URL:https://www.ischiaeventi.com/calendario/evento/249906-benvenuta-primave
 ra
END:VEVENT
END:VCALENDAR
